BEGIN:VCALENDAR
VERSION:2.0
X-WR-TIMEZONE:Europe/Budapest
PRODID:AWE3
CALSCALE:GREGORIAN
BEGIN:VTIMEZONE
TZID:Europe/Budapest
X-LIC-LOCATION:Europe/Budapest
BEGIN:STANDARD
DTSTART:20221030T030000
TZOFFSETFROM:+0200
TZOFFSETTO:+0100
RDATE:20231029T030000
TZNAME:CET
END:STANDARD
BEGIN:DAYLIGHT
DTSTART:20220327T020000
TZOFFSETFROM:+0100
TZOFFSETTO:+0200
RDATE:20230326T020000
TZNAME:CEST
END:DAYLIGHT
END:VTIMEZONE
BEGIN:VEVENT
CLASS:PUBLIC
UID:43369cc633ec6b16b08c2790f892c68b
TRANSP:TRANSPARENCY
SUMMARY:SZFE előadása: Gézagyerek - Ligneum szervezésében
DTSTART;TZID=Europe/Budapest:20260421T000000
DTEND;TZID=Europe/Budapest:20260421T010000
DESCRIPTION:
X-ALT-DESC:
LOCATION:
URL:https://www.uni-sopron.hu/icalendar/event/ice_id/438
END:VEVENT
END:VCALENDAR
